BEGIN:VCALENDAR
VERSION:2.0
PRODID:-//TKICPICの部屋 - ECPv5.14.1//NONSGML v1.0//EN
CALSCALE:GREGORIAN
METHOD:PUBLISH
X-WR-CALNAME:TKICPICの部屋
X-ORIGINAL-URL:https://lp1.tkicpic.com
X-WR-CALDESC:Events for TKICPICの部屋
REFRESH-INTERVAL;VALUE=DURATION:PT1H
X-Robots-Tag:noindex
X-PUBLISHED-TTL:PT1H
BEGIN:VTIMEZONE
TZID:Asia/Tokyo
BEGIN:STANDARD
TZOFFSETFROM:+0900
TZOFFSETTO:+0900
TZNAME:JST
DTSTART:20220101T000000
END:STANDARD
END:VTIMEZONE
BEGIN:VEVENT
DTSTART;VALUE=DATE:20220328
DTEND;VALUE=DATE:20220329
DTSTAMP:20260425T102025
CREATED:20220228T150000Z
LAST-MODIFIED:20220331T091831Z
UID:1401-1648425600-1648511999@lp1.tkicpic.com
SUMMARY:lesson
DESCRIPTION:lesson2 \n 
URL:https://lp1.tkicpic.com/event/lesson/
LOCATION:皇居　テスト\, 東京都\, 千代田区\, 千代田1番1\, 100-0001\, 日本
END:VEVENT
END:VCALENDAR